View In:
ArcGIS JavaScript
ArcGIS Online Map Viewer
ArcGIS Earth
ArcMap
View Footprint In:
ArcGIS Online Map Viewer
Service Description: hydro/hydro_sample_test
Name: hydro/hydro_sample_test
Description:
Single Fused Map Cache: false
Extent:
XMin: 1.4607202316951638E7
YMin: 3932248.717826954
XMax: 1.5779202316951638E7
YMax: 5029998.717826954
Spatial Reference: 102100
(3857)
Initial Extent:
XMin: 1.4607202316951638E7
YMin: 3932248.717826954
XMax: 1.5779202316951638E7
YMax: 5029998.717826954
Spatial Reference: 102100
(3857)
Full Extent:
XMin: 1.4607202316951638E7
YMin: 3932248.717826954
XMax: 1.5779202316951638E7
YMax: 5029998.717826954
Spatial Reference: 102100
(3857)
Time Info:
Start Time Field: data_datetime
End Time Field: null
Time Extent:
[2019/10/12 06:00:00 UTC, 2019/10/12 17:00:00 UTC]
Time Reference:
N/A
Pixel Size X: 250.0
Pixel Size Y: 250.0
Band Count: 1
Pixel Type: F32
RasterFunction Infos: {"rasterFunctionInfos": [
{
"name": "None",
"description": "ラスターまたはラスター データセットを関数ラスター データセットにします。",
"help": ""
},
{
"name": "hr",
"description": "水位",
"help": ""
},
{
"name": "hs",
"description": "浸水深",
"help": ""
},
{
"name": "qr",
"description": "流水量",
"help": ""
}
]}
Mensuration Capabilities: Basic
Has Histograms: false
Has Colormap: false
Has Multi Dimensions : false
Rendering Rule:
Min Scale: 0
Max Scale: 0
Copyright Text:
Service Data Type: esriImageServiceDataTypeGeneric
Min Values: N/A
Max Values: N/A
Mean Values: N/A
Standard Deviation Values: N/A
Object ID Field: objectid
Fields:
-
objectid
(
type: esriFieldTypeOID, alias: objectid
)
-
name
(
type: esriFieldTypeString, alias: name, length: 200
)
-
minps
(
type: esriFieldTypeDouble, alias: minps
)
-
maxps
(
type: esriFieldTypeDouble, alias: maxps
)
-
lowps
(
type: esriFieldTypeDouble, alias: lowps
)
-
highps
(
type: esriFieldTypeDouble, alias: highps
)
-
category
(
type: esriFieldTypeInteger, alias: category
, Coded Values:
[0: Unknown]
, [1: Primary]
, [2: Overview]
, ...6 more...
)
-
tag
(
type: esriFieldTypeString, alias: tag, length: 100
)
-
groupname
(
type: esriFieldTypeString, alias: groupname, length: 100
)
-
productname
(
type: esriFieldTypeString, alias: productname, length: 100
)
-
centerx
(
type: esriFieldTypeDouble, alias: centerx
)
-
centery
(
type: esriFieldTypeDouble, alias: centery
)
-
zorder
(
type: esriFieldTypeInteger, alias: zorder
)
-
layer
(
type: esriFieldTypeString, alias: layer, length: 5
)
-
basin_id
(
type: esriFieldTypeString, alias: basin_id, length: 6
)
-
data_datetime
(
type: esriFieldTypeDate, alias: data_datetime, length: 8
)
-
latest
(
type: esriFieldTypeSmallInteger, alias: latest
)
-
shape
(
type: esriFieldTypeGeometry, alias: shape
)
Default Mosaic Method: Northwest
Allowed Mosaic Methods: NorthWest,Center,LockRaster,ByAttribute,Nadir,Viewpoint,Seamline,None
SortField:
SortValue: null
Mosaic Operator: First
Default Compression Quality: 75
Default Resampling Method: Bilinear
Max Record Count: 1000
Max Image Height: 4100
Max Image Width: 15000
Max Download Image Count: 20
Max Mosaic Image Count: 20
Allow Raster Function: true
Allow Copy: true
Allow Analysis: true
Allow Compute TiePoints: false
Supports Statistics: true
Supports Advanced Queries: true
Use StandardizedQueries: true
Raster Type Infos:
Name: Raster Dataset
Description: すべての ArcGIS ラスター データセットをサポートします。
Help:
Has Raster Attribute Table: false
Edit Fields Info: null
Ownership Based AccessControl For Rasters: null
Child Resources:
Info
Statistics
Key Properties
Legend
Raster Function Infos
Supported Operations:
Export Image
Query
Identify
Measure
Compute Histograms
Compute Statistics Histograms
Get Samples
Compute Class Statistics
Query Boundary
Compute Pixel Location
Compute Angles
Validate
Project